BEGIN:VCALENDAR
VERSION:2.0
PRODID:-//Diversity, Equity, Inclusion, and Belonging of Cresskill - ECPv6.15.20//NONSGML v1.0//EN
CALSCALE:GREGORIAN
METHOD:PUBLISH
X-WR-CALNAME:Diversity, Equity, Inclusion, and Belonging of Cresskill
X-ORIGINAL-URL:https://cresskilldeib.org
X-WR-CALDESC:Events for Diversity, Equity, Inclusion, and Belonging of Cresskill
REFRESH-INTERVAL;VALUE=DURATION:PT1H
X-Robots-Tag:noindex
X-PUBLISHED-TTL:PT1H
BEGIN:VTIMEZONE
TZID:America/New_York
BEGIN:DAYLIGHT
TZOFFSETFROM:-0500
TZOFFSETTO:-0400
TZNAME:EDT
DTSTART:20230312T070000
END:DAYLIGHT
BEGIN:STANDARD
TZOFFSETFROM:-0400
TZOFFSETTO:-0500
TZNAME:EST
DTSTART:20231105T060000
END:STANDARD
BEGIN:DAYLIGHT
TZOFFSETFROM:-0500
TZOFFSETTO:-0400
TZNAME:EDT
DTSTART:20240310T070000
END:DAYLIGHT
BEGIN:STANDARD
TZOFFSETFROM:-0400
TZOFFSETTO:-0500
TZNAME:EST
DTSTART:20241103T060000
END:STANDARD
BEGIN:DAYLIGHT
TZOFFSETFROM:-0500
TZOFFSETTO:-0400
TZNAME:EDT
DTSTART:20250309T070000
END:DAYLIGHT
BEGIN:STANDARD
TZOFFSETFROM:-0400
TZOFFSETTO:-0500
TZNAME:EST
DTSTART:20251102T060000
END:STANDARD
END:VTIMEZONE
BEGIN:VEVENT
DTSTART;TZID=America/New_York:20241219T190000
DTEND;TZID=America/New_York:20241219T210000
DTSTAMP:20260423T120439
CREATED:20240908T185725Z
LAST-MODIFIED:20240908T185725Z
UID:677-1734634800-1734642000@cresskilldeib.org
SUMMARY:DEIB of Cresskill Meeting
DESCRIPTION:7-7:30 Trustees Only\, 7:30-8:30/9pm
URL:https://cresskilldeib.org/event/deib-of-cresskill-meeting-3/
LOCATION:Cresskill High School\, STUDENT MEDIA CENTER\, 1 Lincoln Dr\, Cresskill\, NJ\, 07626\, United States
END:VEVENT
BEGIN:VEVENT
DTSTART;TZID=America/New_York:20241119T190000
DTEND;TZID=America/New_York:20241119T210000
DTSTAMP:20260423T120439
CREATED:20240908T185611Z
LAST-MODIFIED:20240908T185611Z
UID:675-1732042800-1732050000@cresskilldeib.org
SUMMARY:DEIB of Cresskill Meeting
DESCRIPTION:7-7:30 Trustees Only\, 7:30-8:30/9pm Members
URL:https://cresskilldeib.org/event/deib-of-cresskill-meeting-2/
LOCATION:Cresskill High School\, STUDENT MEDIA CENTER\, 1 Lincoln Dr\, Cresskill\, NJ\, 07626\, United States
END:VEVENT
BEGIN:VEVENT
DTSTART;TZID=America/New_York:20241024T190000
DTEND;TZID=America/New_York:20241024T210000
DTSTAMP:20260423T120439
CREATED:20240908T185428Z
LAST-MODIFIED:20240908T185428Z
UID:672-1729796400-1729803600@cresskilldeib.org
SUMMARY:DEIB of Cresskill Meeting
DESCRIPTION:7-7:30 Trustees Only\, 7:30-8:30/9pm
URL:https://cresskilldeib.org/event/deib-of-cresskill-meeting/
LOCATION:Cresskill High School\, STUDENT MEDIA CENTER\, 1 Lincoln Dr\, Cresskill\, NJ\, 07626\, United States
END:VEVENT
BEGIN:VEVENT
DTSTART;TZID=America/New_York:20240917T190000
DTEND;TZID=America/New_York:20240917T210000
DTSTAMP:20260423T120439
CREATED:20240818T234251Z
LAST-MODIFIED:20240908T185249Z
UID:604-1726599600-1726606800@cresskilldeib.org
SUMMARY:DEIB of Cresskill Meeting
DESCRIPTION:7-7:30 Trustees Only\, 7:30-8:30/9pm Members
URL:https://cresskilldeib.org/event/event-1/
LOCATION:Cresskill High School\, STUDENT MEDIA CENTER\, 1 Lincoln Dr\, Cresskill\, NJ\, 07626\, United States
END:VEVENT
END:VCALENDAR